BEGIN:VCALENDAR
VERSION:2.0
PRODID:-//Breast Cancer Research Centre WA - ECPv4.6.22.1//NONSGML v1.0//EN
CALSCALE:GREGORIAN
METHOD:PUBLISH
X-WR-CALNAME:Breast Cancer Research Centre WA
X-ORIGINAL-URL:https://bcrc-wa.com.au
X-WR-CALDESC:Events for Breast Cancer Research Centre WA
BEGIN:VEVENT
DTSTART;TZID=Australia/Perth:20181207T123000
DTEND;TZID=Australia/Perth:20181207T140000
DTSTAMP:20190228T094440
CREATED:20181023T030945Z
LAST-MODIFIED:20181023T030946Z
UID:2048-1544185800-1544191200@bcrc-wa.com.au
SUMMARY:PYNKS Christmas Lunch
DESCRIPTION:PYNKS is free and open to anyone living with metastatic breast cancer.  \nJoin us to celebrate a PYNKS Christmas this year. \nTo join and to start attending our catch ups and events\, please email Jess on info@bcrc-wa.com.au \n
URL:https://bcrc-wa.com.au/event/pynks-christmas-lunch/
LOCATION:The Wild Fig Perth\, 190 The Esplanade\, Scarborough\, WA\, 6019\, Australia
CATEGORIES:PYNKS
ATTACH;FMTTYPE=image/jpeg:https://bcrc-wa.com.au/wp-content/uploads/2018/10/christmas-2.jpg
ORGANIZER;CN="BCRC-WA":MAILTO:info@bcrc-wa.com.au
END:VEVENT
END:VCALENDAR