BEGIN:VCALENDAR
VERSION:2.0
PRODID:-//Breast Cancer Research Centre WA - ECPv4.6.22.1//NONSGML v1.0//EN
CALSCALE:GREGORIAN
METHOD:PUBLISH
X-WR-CALNAME:Breast Cancer Research Centre WA
X-ORIGINAL-URL:https://bcrc-wa.com.au
X-WR-CALDESC:Events for Breast Cancer Research Centre WA
BEGIN:VEVENT
DTSTART;TZID=Australia/Perth:20190101T090000
DTEND;TZID=Australia/Perth:20190102T170000
DTSTAMP:20190228T091817
CREATED:20190124T051152Z
LAST-MODIFIED:20190208T014743Z
UID:2275-1546333200-1546448400@bcrc-wa.com.au
SUMMARY:PYNKS 2019 Program of Events
DESCRIPTION:Join our PYNKS meetings each month to share and connect with others like-minded people who can provide understanding\, friendship and support. Our free program involves casual coffee catch-ups and chats\, fun activities and outings that include family and friends. Read more about PYNKS here. \n2019 Program of Events\nJanuary\nCoffee and Chat – an open and informal chat over coffee\nDate: Tues 29 Jan\nTime: 10:30-11:30am\nAt: The Bodhi Tree Coffee and Book Shop\, Mt Hawthorn (Cnr Oxford St and Scarborough Beach Rd \nFebruary\nAnnual PYNKS Education Talk\nDate: Sat 9 Feb\nTime: 10am-12pm\nAt: Hollywood Private Hospital Lecture Hall \nMarch\nPhotography Class\nDate: Tues 5 March\nTime: 11:30am-1pm\nAt: Kings Park\, May Drive Parkland (formerly Synergy Parkland) Bring your own camera and learn some new photography skills \nApril\nCoffee and Chat\nDate: Tues 16 April\nTime: 10am-11:30am\nAt: TBA \n
URL:https://bcrc-wa.com.au/event/pynks-2019-program-of-events/
ATTACH;FMTTYPE=image/jpeg:https://bcrc-wa.com.au/wp-content/uploads/2018/08/Ella_Alex_Di_Lyn_Annie_Barabara_Irene-1024x683-e1534932450132.jpg
END:VEVENT
END:VCALENDAR